BEGIN:VCALENDAR
VERSION:2.0
PRODID:https://hermaringen.de/termine
CALSCALE:GREGORIAN
BEGIN:VEVENT
DTSTART:20260512T190000Z
DTEND:20260512T200000Z
SUMMARY:Doppel-Spaß-Turnier
LOCATION:
DESCRIPTION:Doppel-Spaß-Turnier. Alle Mitglieder der SG Brenztal sind eingeladen.
URL;VALUE=URI:
DTSTAMP:19700101T010000Z
UID:69ecddf71df6d
END:VEVENT
END:VCALENDAR