BEGIN:VCALENDAR
VERSION:2.0
PRODID:https://hermaringen.de/termine
CALSCALE:GREGORIAN
BEGIN:VEVENT
DTSTART:20260704T000000Z
DTEND:20260704T010000Z
SUMMARY:Grillfest bei Anita und Hans im Garten
LOCATION:
DESCRIPTION:Grillfest bei Anita und Hans im Garten. Ausweichtermine bei schlechtem Wetter sind der 11.07.26 und der 18.07.26
URL;VALUE=URI:
DTSTAMP:19700101T010000Z
UID:69ecde0f9d335
END:VEVENT
END:VCALENDAR