BEGIN:VCALENDAR
VERSION:2.0
PRODID:https://hermaringen.de/termine
CALSCALE:GREGORIAN
BEGIN:VEVENT
DTSTART:20260626T000000Z
DTEND:20260628T000000Z
SUMMARY:TT-Ausflug nach Lermoos
LOCATION:
DESCRIPTION:TT-Ausflug nach Lermoos. Anmeldungen bei Anja Ott oder Harry Knödler
URL;VALUE=URI:
DTSTAMP:19700101T010000Z
UID:69ecddc18adcd
END:VEVENT
END:VCALENDAR